Workbook

Sheet NRE
I1: SÍNTESE DOS FATORES DE ANÁLISE
B2: NÚCLEO REGIONAL | C2: ESCOLAS ESTADUAIS RESPONDENTES | D2: ESCOLAS ESTADUAIS ATIVAS 2018 | E2: % DE RESPOSTAS | I2: NRE DE IDENTIFICAÇÃO | J2: E (Fator de Análise) | K2: Escala Interpretativa da proposição de ações para a ERER
A3: 1 | B3: APUCARANA | C3: 54 | D3: 61 | E3: =C3*100/D3 -> 88.52459 | I3: =Apucarana!Q8 -> ERER NRE APUCARANA | J3: =Apucarana!R8 -> 0.72962963 | K3: =Apucarana!S8 -> Representativa (0,70 - 0,89)
A4: 2 | B4: AREA METROP.NOR | C4: 81 | D4: 111 | E4: =C4*100/D4 -> 72.972973 | I4: ='Area Metro Norte'!S10 -> ERER NRE AREA METRO NORTE | J4: ='Area Metro Norte'!T10 -> 0.69958848 | K4: ='Area Metro Norte'!U10 -> Representativa (0,70 - 0,89)
A5: 3 | B5: AREA METROP.SUL | C5: 61 | D5: 139 | E5: =C5*100/D5 -> 43.884892 | I5: ='Area Metro Sul'!S9 -> ERER NRE AREA METRO SUL | J5: ='Area Metro Sul'!T9 -> 0.66229508 | K5: ='Area Metro Sul'!U9 -> Moderada (0,40 - 0,69)
A6: 4 | B6: ASSIS CHATEAUBR | C6: 29 | D6: 30 | E6: =C6*100/D6 -> 96.666667 | I6: ='Assis Chateaubr'!S9 -> ERER NRE ASSIS CHATEAUBR | J6: ='Assis Chateaubr'!T9 -> 0.68965517 | K6: ='Assis Chateaubr'!U9 -> Moderada (0,40 - 0,69)
A7: 5 | B7: CAMPO MOURAO | C7: 43 | D7: 56 | E7: =C7*100/D7 -> 76.785714 | I7: ='Campo Mourão'!T9 -> ERER NRE CAMPO MOURÃO | J7: ='Campo Mourão'!U9 -> 0.71317829 | K7: ='Campo Mourão'!V9 -> Representativa (0,70 - 0,89)
A8: 6 | B8: CASCAVEL | C8: 76 | D8: 93 | E8: =C8*100/D8 -> 81.72043 | I8: =Cascavel!T9 -> ERER NRE CASCAVEL | J8: =Cascavel!U9 -> 0.71754386 | K8: =Cascavel!V9 -> Representativa (0,70 - 0,89)
A9: 7 | B9: CIANORTE | C9: 31 | D9: 33 | E9: =C9*100/D9 -> 93.939394 | I9: =Cianorte!T9 -> ERER NRE CIANORTE | J9: =Cianorte!U9 -> 0.69247312 | K9: =Cianorte!V9 -> Moderada (0,40 - 0,69)
A10: 8 | B10: CORNELIO PROCOP | C10: 43 | D10: 68 | E10: =C10*100/D10 -> 63.235294 | I10: ='Cornelio Procop'!T9 -> ERER NRE CORNELIO PROCOPIO | J10: ='Cornelio Procop'!U9 -> 0.70387597 | K10: ='Cornelio Procop'!V9 -> Representativa (0,70 - 0,89)
A11: 9 | B11: CURITIBA | C11: 96 | D11: 164 | E11: =C11*100/D11 -> 58.536585 | I11: =Curitiba!T9 -> ERER NRE CURITIBA | J11: =Curitiba!U9 -> 0.65763889 | K11: =Curitiba!V9 -> Moderada (0,40 - 0,69)
A12: 10 | B12: DOIS VIZINHOS | C12: 25 | D12: 34 | E12: =C12*100/D12 -> 73.529412 | I12: ='Dois Vizinhos'!T9 -> ERER NRE DOIS VIZINHOS | J12: ='Dois Vizinhos'!U9 -> 0.67466667 | K12: ='Dois Vizinhos'!V9 -> Moderada (0,40 - 0,69)
A13: 11 | B13: FOZ DO IGUACU | C13: 63 | D13: 67 | E13: =C13*100/D13 -> 94.029851 | I13: ='Foz do Iguaçu'!T9 -> ERER NRE FOZ DO IGUAÇU | J13: ='Foz do Iguaçu'!U9 -> 0.76719577 | K13: ='Foz do Iguaçu'!V9 -> Representativa (0,70 - 0,89)
A14: 12 | B14: FRANCISCO BELTR | C14: 89 | D14: 94 | E14: =C14*100/D14 -> 94.680851 | I14: ='Francisco Beltrao'!T9 -> ERER NRE FCO BELTRAO | J14: ='Francisco Beltrao'!U9 -> 0.7258427 | K14: ='Francisco Beltrao'!V9 -> Representativa (0,70 - 0,89)
A15: 13 | B15: GOIOERE | C15: 31 | D15: 31 | E15: =C15*100/D15 -> 100 | I15: =Goioere!T9 -> ERER NRE GOIOERE | J15: =Goioere!U9 -> 0.66666667 | K15: =Goioere!V9 -> Moderada (0,40 - 0,69)
A16: 14 | B16: GUARAPUAVA | C16: 30 | D16: 59 | E16: =C16*100/D16 -> 50.847458 | I16: =Guarapuava!T9 -> ERER NRE GUARAPUAVA | J16: =Guarapuava!U9 -> 0.71333333 | K16: =Guarapuava!V9 -> Representativa (0,70 - 0,89)
A17: 15 | B17: IBAITI | C17: 20 | D17: 33 | E17: =C17*100/D17 -> 60.606061 | I17: =Ibaiti!T9 -> ERER NRE IBAITI | J17: =Ibaiti!U9 -> 0.66333333 | K17: =Ibaiti!V9 -> Representativa (0,70 - 0,89)
A18: 16 | B18: IRATI | C18: 50 | D18: 54 | E18: =C18*100/D18 -> 92.592593 | I18: =Irati!T9 -> ERER NRE IRATI | J18: =Irati!U9 -> 0.66933333 | K18: =Irati!V9 -> Moderada (0,40 - 0,69)
A19: 17 | B19: IVAIPORA | C19: 40 | D19: 54 | E19: =C19*100/D19 -> 74.074074 | I19: =Ivaipora!T9 -> ERER NRE IVAIPORA | J19: =Ivaipora!U9 -> 0.67666667 | K19: =Ivaipora!V9 -> Moderada (0,40 - 0,69)
A20: 18 | B20: JACAREZINHO | C20: 46 | D20: 47 | E20: =C20*100/D20 -> 97.87234 | I20: =Jacarezinho!T10 -> ERER NRE JACAREZINHO | J20: =Jacarezinho!U10 -> 0.71449275 | K20: =Jacarezinho!V10 -> Representativa (0,70 - 0,89)
A21: 19 | B21: LARANJEIRAS DO | C21: 53 | D21: 61 | E21: =C21*100/D21 -> 86.885246 | I21: ='Laranjeiras do Sul'!T9 -> ERER NRE LARANGEIRAS DO SUL | J21: ='Laranjeiras do Sul'!U9 -> 0.70566038 | K21: ='Laranjeiras do Sul'!V9 -> Representativa (0,70 - 0,89)
A22: 20 | B22: LOANDA | C22: 27 | D22: 27 | E22: =C22*100/D22 -> 100 | I22: =Loanda!T9 -> ERER NRE LOANDA | J22: =Loanda!U9 -> 0.68641975 | K22: =Loanda!V9 -> Moderada (0,40 - 0,69)
A23: 21 | B23: LONDRINA | C23: 90 | D23: 122 | E23: =C23*100/D23 -> 73.770492 | I23: =#REF! -> #REF! | J23: =#REF! -> #REF! | K23: =#REF! -> #REF!
A24: 22 | B24: MARINGA | C24: 91 | D24: 94 | E24: =C24*100/D24 -> 96.808511 | I24: =Maringá!T9 -> ERER NRE MARINGA | J24: =Maringá!U9 -> 0.74285714 | K24: =Maringá!V9 -> Representativa (0,70 - 0,89)
A25: 23 | B25: PARANAGUA | C25: 58 | D25: 61 | E25: =C25*100/D25 -> 95.081967 | I25: =Paranagua!T9 -> ERER NRE PARANAGUA | J25: =Paranagua!U9 -> 0.73103448 | K25: =Paranagua!V9 -> Representativa (0,70 - 0,89)
A26: 24 | B26: PARANAVAI | C26: 46 | D26: 46 | E26: =C26*100/D26 -> 100 | I26: =Paranavai!T9 -> ERER NRE PARANAVAI | J26: =Paranavai!U9 -> 0.72753623 | K26: =Paranavai!V9 -> Representativa (0,70 - 0,89)
A27: 25 | B27: PATO BRANCO | C27: 65 | D27: 72 | E27: =C27*100/D27 -> 90.277778 | I27: ='Pato Branco'!T9 -> ERER NRE PATO BRANCO | J27: ='Pato Branco'!U9 -> 0.7425641 | K27: ='Pato Branco'!V9 -> Representativa (0,70 - 0,89)
A28: 26 | B28: PITANGA | C28: 28 | D28: 34 | E28: =C28*100/D28 -> 82.352941 | I28: =Pitanga!T9 -> ERER NRE PITANGA | J28: =Pitanga!U9 -> 0.7047619 | K28: =Pitanga!V9 -> Representativa (0,70 - 0,89)
A29: 27 | B29: PONTA GROSSA | C29: 34 | D29: 113 | E29: =C29*100/D29 -> 30.088496 | I29: ='Ponta Grossa'!T9 -> ERER NRE PONTA GROSSA | J29: ='Ponta Grossa'!U9 -> 0.69607843 | K29: ='Ponta Grossa'!V9 -> Representativa (0,70 - 0,89)
A30: 28 | B30: TELEMACO BORBA | C30: 42 | D30: 50 | E30: =C30*100/D30 -> 84 | I30: ='Telemaco Borba'!T9 -> ERER NRE TELEMACO BORBA | J30: ='Telemaco Borba'!U9 -> 0.68730159 | K30: ='Telemaco Borba'!V9 -> Moderada (0,40 - 0,69)
A31: 29 | B31: TOLEDO | C31: 88 | D31: 92 | E31: =C31*100/D31 -> 95.652174 | I31: =Toledo!T9 -> ERER NRE TOLEDO | J31: =Toledo!U9 -> 0.76287879 | K31: =Toledo!V9 -> Representativa (0,70 - 0,89)
A32: 30 | B32: UMUARAMA | C32: 57 | D32: 68 | E32: =C32*100/D32 -> 83.823529 | I32: =Umuarama!T9 -> ERER NRE UMUARAMA | J32: =Umuarama!U9 -> 0.69473684 | K32: =Umuarama!V9 -> Moderada (0,40 - 0,69)
A33: 31 | B33: UNIAO DA VITORI | C33: 45 | D33: 45 | E33: =C33*100/D33 -> 100 | I33: ='União da Vitória'!T9 -> ERER NRE UNIAO DA VITORIA | J33: ='União da Vitória'!U9 -> 0.67851852 | K33: ='União da Vitória'!V9 -> Moderada (0,40 - 0,69)
A34: 32 | B34: WENCESLAU BRAZ | C34: 27 | D34: 33 | E34: =C34*100/D34 -> 81.818182 | I34: ='Wenceslau Braz'!T9 -> ERER NRE AREA WENCESLAU BRAZ | J34: ='Wenceslau Braz'!U9 -> 0.67901235 | K34: ='Wenceslau Braz'!V9 -> Moderada (0,40 - 0,69)
B35: Total | C35: 1659 | D35: 2144 | E35: =C35*100/D35 -> 77.378731

Sheet Apucarana
A1: NÚCLEO REGIONAL | B1: ESCOLAS ESTADUAIS RESPONDENTES | C1: ESCOLAS ESTADUAIS ATIVAS 2018 | D1: % DE RESPOSTAS | F1: NRE APUCARANA
A2: APUCARANA | B2: 54 | C2: 61 | D2: =B2*100/C2 -> 88.52459
A4: QUESTÕES UTILIZADAS PARA FORMAÇÃO DOS FATORES DE ANÁLISE
A6: 75.A Unidade Escolar ofereceu, no último ano letivo, cursos de formação para professores(as) e demais funcionários(as) da escola sobre conteúdos referentes às relações raciais e a implementação da Lei n. 10.639/2003?
C7: Frequência | D7: Porcentual | G7: Fatores | H7: variável | I7: sim | J7: não | K7: Ausente | L7: N (respondente total) | M7: E (indicador por variável) | N7: E (total fator) | O7: Peso atribuído | Q7: Indicador de Verificação geral | R7: E | S7: Escala Interpretativa
A8: Válido | B8: não | C8: 19 | D8: 35.2 | G8: F1 | H8: 75 | I8: 35 | J8: 19 | K8: 0 | L8: 54 | M8: =(L8-(K8+J8))/L8 -> 0.64814815 | N8: =(M8+M9+M10)/3 -> 0.69753086 | O8: Representativa (0,70 - 0,89) | Q8: ERER NRE APUCARANA | R8: =(M8+M9+M10+M11+M12+M13+M14+M15+M16+M17+M18+M19+M20+M21+M22)/15 -> 0.72962963 | S8: Representativa (0,70 - 0,89)
B9: sim | C9: 35 | D9: 64.8 | H9: 76 | I9: 37 | J9: 17 | K9: 0 | L9: 54 | M9: =(L9-(K9+J9))/L9 -> 0.68518519
B10: Total | C10: 54 | D10: 100 | H10: 77 | I10: 41 | J10: 13 | K10: 0 | L10: 54 | M10: =(L10-(K10+J10))/L10 -> 0.75925926
G11: F2 | H11: 63 | I11: 39 | J11: 15 | K11: 0 | L11: 54 | M11: =(L11-(K11+J11))/L11 -> 0.72222222 | N11: =(M11+M12+M13+M14)/4 -> 0.78240741 | O11: Representativa (0,70 - 0,89)
H12: 64 | I12: 34 | J12: 20 | K12: 0 | L12: 54 | M12: =(L12-(K12+J12))/L12 -> 0.62962963
A13: 76.Essa Unidade Escolar ofereceu, no último ano letivo, cursos de formação para professores(as) e demais funcionários(as) da escola sobre conteúdos referentes às relações étnico-raciais e a implementação da Lei n. 11.645/2008? | H13: 911 | I13: 50 | J13: 3 | K13: 1 | L13: 54 | M13: =(L13-(K13+J13))/L13 -> 0.92592593
H14: 93 | I14: 46 | J14: 7 | K14: 1 | L14: 54 | M14: =(L14-(K14+J14))/L14 -> 0.85185185
C15: Frequência | D15: Porcentual | G15: F3 | H15: 1072 | I15: 4 | J15: 50 | K15: 0 | L15: 54 | M15: =(L15-(K15+J15))/L15 -> 0.074074074 | N15: =M15 -> 0.074074074 | O15: Irrisória (0 - 0,19
A16: Válido | B16: não | C16: 17 | D16: 31.5 | G16: F4 | H16: 102 | I16: 45 | J16: 9 | K16: 0 | L16: 54 | M16: =(L16-(K16+J16))/L16 -> 0.83333333 | N16: =(M16+M17)/2 -> 0.78703704 | O16: Representativa (0,70 - 0,89)
B17: sim | C17: 37 | D17: 68.5 | H17: 103 | I17: 40 | J17: 14 | K17: 0 | L17: 54 | M17: =(L17-(K17+J17))/L17 -> 0.74074074
B18: Total | C18: 54 | D18: 100 | G18: F5 | H18: 59 | I18: 34 | J18: 20 | K18: 0 | L18: 54 | M18: =(L18-(K18+J18))/L18 -> 0.62962963 | N18: =(M18+M19)/2 -> 0.71296296 | O18: Representativa (0,70 - 0,89) | Q18: MUNICÍPIOS RESPONDENTES | AB18: ESCOLAS RESPONDENTES
H19: 510 | I19: 43 | J19: 11 | K19: 0 | L19: 54 | M19: =(L19-(K19+J19))/L19 -> 0.7962963
G20: F6 | H20: 56 | I20: 48 | J20: 6 | K20: 0 | L20: 54 | M20: =(L20-(K20+J20))/L20 -> 0.88888889 | N20: =(M20+M21)/2 -> 0.92592593 | O20: Expressiva (0,90 - 1,00)
A21: 77.Nessa Unidade Escolar foi realizada alguma formação, encontro ou reunião que instigasse a reflexão, por parte dos profissionais da educação, sobre seu pertencimento étnico-racial (ser branco, ser negro, ser terena, ser guarani, etc.)? | H21: 57 | I21: 52 | J21: 2 | K21: 0 | L21: 54 | M21: =(L21-(K21+J21))/L21 -> 0.96296296 | S21: Frequência | T21: Porcentual | AB21: CEEBJA - CECILIA MEIRELES
G22: F7 | H22: 86 | I22: 43 | J22: 1 | K22: 10 | L22: 54 | M22: =(L22-(K22+J22))/L22 -> 0.7962963 | N22: =M22 -> 0.7962963 | O22: Representativa (0,70 - 0,89) | Q22: APUCARANA | S22: 16 | T22: 29.6 | AB22: CENTRO ESTADUAL DE EDUCACAO PROFISSIONAL AGRICOLA MANOEL RIBAS
C23: Frequência | D23: Porcentual | Q23: ARAPONGAS | S23: 13 | T23: 24.1 | AB23: COLEGIO ESTADUAL ABRAHAM LINCOLN
A24: Válido | B24: não | C24: 13 | D24: 24.1 | Q24: BOM SUCESSO | S24: 1 | T24: 1.9 | AB24: COLEGIO ESTADUAL ALBERTO SANTOS DUMONT
B25: sim | C25: 41 | D25: 75.9 | G25: SÍNTESE - DADOS GERAIS NRE APUCARANA | Q25: BORRAZOPOLIS | S25: 2 | T25: 3.7 | AB25: COLÉGIO ESTADUAL ANTÔNIO DOS TRÊS REIS DE OLIVEIRA
B26: Total | C26: 54 | D26: 100 | Q26: CALIFORNIA | S26: 1 | T26: 1.9 | AB26: COLEGIO ESTADUAL ANTONIO GARCEZ NOVAES - ENSINO FUNDAMENTAL, MEDIO E PROFISSIONAL
Q27: CAMBIRA | S27: 2 | T27: 3.7 | AB27: COLEGIO ESTADUAL ANTONIO RACANELLO SAMPAIO
A28: 63.Nessa Unidade Escolar desenvolvem-se pesquisas com entidades e/ou ativistas de movimentos sociais que estimulem os(as) estudantes a conhecerem a história da População Negra do Brasil? | G28: Localização da Unidade Escolar | Q28: CRUZMALTINA | S28: 2 | T28: 3.7 | AB28: Colégio Estadual Cesar Lattes
Q29: FAXINAL | S29: 4 | T29: 7.4 | AB29: COLÉGIO ESTADUAL DO CAMPO CORONEL LUIZ JOSÉ DOS SANTOS - ENSINO FUNDAMENTAL E MÉDIO.
C30: Frequência | D30: Porcentual | I30: Frequência | J30: Porcentual | Q30: JANDAIA DO SUL | S30: 5 | T30: 9.3 | AB30: COLEGIO ESTADUAL DO CAMPO DOUTOR JULIO JUNQUEIRA ENSINO FUNDAMENTAL E MEDIO
A31: Válido | B31: não | C31: 15 | D31: 27.8 | G31: Zona Urbana | I31: 49 | J31: 90.7 | Q31: KALORE | S31: 1 | T31: 1.9 | AB31: COLEGIO ESTADUAL DO CAMPO FERNANDO SONTAG ENSINO FUNDAMENTAL E MEDIO
B32: sim | C32: 39 | D32: 72.2 | G32: Zona Rural | I32: 5 | J32: 9.3 | Q32: MARILANDIA DO SUL | S32: 2 | T32: 3.7 | AB32: COLEGIO ESTADUAL DO CAMPO FREI GRACIANO DROESSLER ENSINO FUNDAMENTAL E MEDIO
B33: Total | C33: 54 | D33: 100 | G33: Total | I33: 54 | J33: 100 | Q33: MARUMBI | S33: 1 | T33: 1.9 | AB33: COLEGIO ESTADUAL DO CAMPO PADRE GUALTER FARIAS NEGRAO - ENSINO FUNDAMENTAL E MEDIO
Q34: MAUA DA SERRA | S34: 1 | T34: 1.9 | AB34: COLEGIO ESTADUAL DO CAMPO PROFESSORA GODOMA BEVILACQUA DE OLIVEIRA
Q35: NOVO ITACOLOMI | S35: 1 | T35: 1.9 | AB35: Colégio Estadual do Campo Tancredo Neves - Ensino Fundamental -Anos Finais e Ensino Médio
A36: 64.Nessa Unidade Escolar desenvolvem-se pesquisas com entidades e/ou ativistas de movimentos sociais que estimulem os(as) estudantes a conhecerem a história da População Indígena brasileira? | Q36: RIO BOM | S36: 1 | T36: 1.9 | AB36: COLÉGIO ESTADUAL DR. REBOUCAS - ENSINO FUNDAMENTAL E MÉDIO
G37: Localização diferencia da Unidade Escolar | Q37: SABAUDIA | S37: 1 | T37: 1.9 | AB37: COLEGIO ESTADUAL EMILIO DE MENEZES - ENSINO FUNDAMENTAL, MEDIO E NORMAL.
C38: Frequência | D38: Porcentual | I38: Frequência | J38: Porcentual | Q38: Total | S38: 54 | T38: 100 | AB38: Colégio Estadual Francisco Ferreira Bastos
A39: Válido | B39: não | C39: 20 | D39: 37 | G39: Não se aplica | I39: 54 | J39: 100 | AB39: COLEGIO ESTADUAL HEITOR CAVALCANTI DE ALENCAR FURTADO
B40: sim | C40: 34 | D40: 63 | AB40: COLEGIO ESTADUAL HERMINIA ROLIM LUPION - ENSINO FUNDAMENTAL E MEDIO
B41: Total | C41: 54 | D41: 100 | AB41: COLEGIO ESTADUAL IVANILDE DE NORONHA - ENSINO FUNDAMENTAL E MEDIO
G42: Principal modalidade de Educação adotada na Unidade Escolar | AB42: Colégio Estadual Jandaia do Sul - Ensino Fundamental, Medio e Profissional.
...

Sheet Area Metro Norte
A1: NÚCLEO REGIONAL | B1: ESCOLAS ESTADUAIS RESPONDENTES | C1: ESCOLAS ESTADUAIS ATIVAS 2018 | D1: % DE RESPOSTAS | F1: NRE AREA METR. NORTE
A2: AREA METROP.NOR | B2: 81 | C2: 111 | D2: =B2*100/C2 -> 72.972973
A4: QUESTÕES UTILIZADAS PARA FORMAÇÃO DOS FATORES DE ANÁLISE
A7: 75.A Unidade Escolar ofereceu, no último ano letivo, cursos de formação para professores(as) e demais funcionários(as) da escola sobre conteúdos referentes às relações raciais e a implementação da Lei n. 10.639/2003?
C9: Frequência | D9: Porcentual | I9: Fatores | J9: variável | K9: sim | L9: não | M9: Ausente | N9: N (respondente total) | O9: E (indicador por variável) | P9: E (total fator) | Q9: Escala Interpretativa | S9: Indicador de Verificação geral | T9: E | U9: Escala Interpretativa
A10: Válido | B10: não | C10: 26 | D10: 32.1 | I10: F1 | J10: 75 | K10: =C11 -> 55 | L10: =C10 -> 26 | M10: =0 -> 0 | N10: =C12 -> 81 | O10: =(N10-(M10+L10))/N10 -> 0.67901235 | P10: =(O10+O11+O12)/3 -> 0.67901235 | Q10: Moderada (0,40 - 0,69) | S10: ERER NRE AREA METRO NORTE | T10: =(O10+O11+O12+O13+O14+O15+O16+O17+O18+O19+O20+O21+O22+O23+O24)/15 -> 0.69958848 | U10: Representativa (0,70 - 0,89)
B11: sim | C11: 55 | D11: 67.9 | J11: 76 | K11: =C19 -> 55 | L11: =C18 -> 26 | M11: =0 -> 0 | N11: =C20 -> 81 | O11: =(N11-(M11+L11))/N11 -> 0.67901235
B12: Total | C12: 81 | D12: 100 | J12: 77 | K12: =C27 -> 55 | L12: =C26 -> 26 | M12: =0 -> 0 | N12: =C28 -> 81 | O12: =(N12-(M12+L12))/N12 -> 0.67901235
I13: F2 | J13: 63 | K13: =C35 -> 40 | L13: =C34 -> 41 | M13: =0 -> 0 | N13: =C36 -> 81 | O13: =(N13-(M13+L13))/N13 -> 0.49382716 | P13: =(O13+O14+O15+O16)/4 -> 0.65740741 | Q13: Moderada (0,40 - 0,69)
J14: 64 | K14: =C43 -> 35 | L14: =C42 -> 46 | M14: =0 -> 0 | N14: =C44 -> 81 | O14: =(N14-(M14+L14))/N14 -> 0.43209877
A15: 76.Essa Unidade Escolar ofereceu, no último ano letivo, cursos de formação para professores(as) e demais funcionários(as) da escola sobre conteúdos referentes às relações étnico-raciais e a implementação da Lei n. 11.645/2008? | J15: 911 | K15: =C51 -> 76 | L15: =C50 -> 5 | M15: =0 -> 0 | N15: =C52 -> 81 | O15: =(N15-(M15+L15))/N15 -> 0.9382716
J16: 93 | K16: =C59 -> 62 | L16: =C58 -> 19 | M16: =0 -> 0 | N16: =C60 -> 81 | O16: =(N16-(M16+L16))/N16 -> 0.7654321 | S16: UNIDADE ESCOLAR
C17: Frequência | D17: Porcentual | I17: F3 | J17: 1072 | K17: =C83 -> 9 | L17: =C82 -> 72 | M17: =C84 -> 0 | N17: =C85 -> 81 | O17: =(N17-(M17+L17))/N17 -> 0.11111111 | P17: =O17 -> 0.11111111 | Q17: Irrisória (0 - 0,19
A18: Válido | B18: não | C18: 26 | D18: 32.1 | I18: F4 | J18: 102 | K18: =C67 -> 73 | L18: =C66 -> 8 | M18: =0 -> 0 | N18: =C68 -> 81 | O18: =(N18-(M18+L18))/N18 -> 0.90123457 | P18: =(O18+O19)/2 -> 0.84567901 | Q18: Representativa (0,70 - 0,89) | S18: C. E. SÃO FRANCISCO DE ASSIS
B19: sim | C19: 55 | D19: 67.9 | J19: 103 | K19: =C75 -> 64 | L19: =C74 -> 17 | M19: =0 -> 0 | N19: =C76 -> 81 | O19: =(N19-(M19+L19))/N19 -> 0.79012346 | S19: CE CAMPO MAGRO
B20: Total | C20: 81 | D20: 100 | I20: F5 | J20: 59 | K20: =C92 -> 51 | L20: =C91 -> 30 | M20: =0 -> 0 | N20: =C93 -> 81 | O20: =(N20-(M20+L20))/N20 -> 0.62962963 | P20: =(O20+O21)/2 -> 0.72222222 | Q20: Representativa (0,70 - 0,89) | S20: CENTRO ESTADUAL DE EDUCACAO BASICA DE JOVENS E ADULTOS - AYRTON SENNA DA SILVA ENSINO FUNDAMENTAL FASE 2 E MEDIO.
J21: 510 | K21: =C100 -> 66 | L21: =C99 -> 15 | M21: =0 -> 0 | N21: =C101 -> 81 | O21: =(N21-(M21+L21))/N21 -> 0.81481481 | S21: Centro Estadual de Educação Básica de Jovens e Adultos Zilda Arns Neumann
I22: F6 | J22: 56 | K22: =C108 -> 71 | L22: =C107 -> 10 | M22: =0 -> 0 | N22: =C109 -> 81 | O22: =(N22-(M22+L22))/N22 -> 0.87654321 | P22: =(O22+O23)/2 -> 0.91358025 | Q22: Expressiva (0,90 - 1,00) | S22: Centro Estadual de Educação Profissional Newton Freire Maia
A23: 77.Nessa Unidade Escolar foi realizada alguma formação, encontro ou reunião que instigasse a reflexão, por parte dos profissionais da educação, sobre seu pertencimento étnico-racial (ser branco, ser negro, ser terena, ser guarani, etc.)? | J23: 57 | K23: =C116 -> 77 | L23: =C115 -> 4 | M23: =0 -> 0 | N23: =C117 -> 81 | O23: =(N23-(M23+L23))/N23 -> 0.95061728 | S23: Coiegio Estadual Quilombola Diogo Ramos
I24: F7 | J24: 86 | K24: =C124 -> 61 | L24: =C123 -> 4 | M24: =C125 -> 16 | N24: =C126 -> 81 | O24: =(N24-(M24+L24))/N24 -> 0.75308642 | P24: =O24 -> 0.75308642 | Q24: Representativa (0,70 - 0,89) | S24: COLÉGIO ESTADUAL AMYNTAS DE BARROS - EFM E PROFISSIONAL.
C25: Frequência | D25: Porcentual | S25: COLEGIO ESTADUAL ANDRE ANDREATTA - EFM E EJA
A26: Válido | B26: não | C26: 26 | D26: 32.1 | S26: COLEGIO ESTADUAL ANTONIO LACERDA BRAGA
B27: sim | C27: 55 | D27: 67.9 | I27: MUNICÍPIO RESPONDENTE | S27: Colegio Estadual Arlinda Ferreira Creplive
B28: Total | C28: 81 | D28: 100 | S28: COLÉGIO ESTADUAL BANDEIRANTES-EFM
K29: Frequência | L29: Porcentual | S29: Colegio Estadual Campos Sales EFM e proficionalizante
I30: ADRIANOPOLIS | K30: 3 | L30: 3.7 | S30: COLÉGIO ESTADUAL CONSELHEIRO QUIELSE CRISÓSTOMO DA SILVA
A31: 63.Nessa Unidade Escolar desenvolvem-se pesquisas com entidades e/ou ativistas de movimentos sociais que estimulem os(as) estudantes a conhecerem a história da População Negra do Brasil? | I31: ALMIRANTE TAMANDARE | K31: 13 | L31: 16 | S31: COLEGIO ESTADUAL DE GUARAITUBA - EFM
I32: BOCAIUVA DO SUL | K32: 1 | L32: 1.2 | S32: COLÉGIO ESTADUAL DO CAMPO AUGUSTO ANTONIO DA PAIXÃO
C33: Frequência | D33: Porcentual | I33: CAMPINA GRANDE DO SUL | K33: 6 | L33: 7.4 | S33: COLÉGIO ESTADUAL DO CAMPO DO CAMPO PROFESSOR PERCY TEIXEIRA DE FARIA
A34: Válido | B34: não | C34: 41 | D34: 50.6 | I34: CAMPO MAGRO | K34: 4 | L34: 4.9 | S34: COLÉGIO ESTADUAL DO CAMPO JOSÉ ELIAS - EMF
B35: sim | C35: 40 | D35: 49.4 | I35: CERRO AZUL | K35: 1 | L35: 1.2 | S35: COLEGIO ESTADUAL DO CAMPO NOSSA SENHORA DA CONCEICAO - EFM
B36: Total | C36: 81 | D36: 100 | I36: COLOMBO | K36: 17 | L36: 21 | S36: COLEGIO ESTADUAL DO CAMPO NOSSA SENHORA DAS GRACAS
I37: DOUTOR ULYSSES | K37: 2 | L37: 2.5 | S37: COLEGIO ESTADUAL DO CAMPO PORTO NOVO - EFM
I38: ITAPERUCU | K38: 4 | L38: 4.9 | S38: COLEGIO ESTADUAL DO CAMPO SELBMANN - EFM
A39: 64.Nessa Unidade Escolar desenvolvem-se pesquisas com entidades e/ou ativistas de movimentos sociais que estimulem os(as) estudantes a conhecerem a história da População Indígena brasileira? | I39: PINHAIS | K39: 9 | L39: 11.1 | S39: COLEGIO ESTADUAL DO CAMPO TERRA BOA - EFM
I40: PIRAQUARA | K40: 10 | L40: 12.3 | S40: COLEGIO ESTADUAL DR. GILBERTO ALVES DO NASCIMENTO
C41: Frequência | D41: Porcentual | I41: QUATRO BARRAS | K41: 3 | L41: 3.7 | S41: COLEGIO ESTADUAL ELIAS ABRAHAO - EFM
A42: Válido | B42: não | C42: 46 | D42: 56.8 | I42: RIO BRANCO DO SUL | K42: 7 | L42: 8.6 | S42: COLÉGIO ESTADUAL FLORIPA TEIXEIRA DE FARIA
B43: sim | C43: 35 | D43: 43.2 | I43: TUNAS DO PARANA | K43: 1 | L43: 1.2 | S43: Colégio Estadual Frei Beda Maria Ensino Fundamental Médio e Normal
B44: Total | C44: 81 | D44: 100 | I44: Total | K44: 81 | L44: 100 | S44: COLEGIO ESTADUAL GENESIO MORESCHI EFM
...

Sheet Area Metro Sul
A1: NÚCLEO REGIONAL | B1: ESCOLAS ESTADUAIS RESPONDENTES | C1: ESCOLAS ESTADUAIS ATIVAS 2018 | D1: % DE RESPOSTAS | F1: NRE AREA METR. SUL
A2: AREA METROP.SUL | B2: 61 | C2: 139 | D2: 43.884892
A4: QUESTÕES UTILIZADAS PARA FORMAÇÃO DOS FATORES DE ANÁLISE
A6: 75.A Unidade Escolar ofereceu, no último ano letivo, cursos de formação para professores(as) e demais funcionários(as) da escola sobre conteúdos referentes às relações raciais e a implementação da Lei n. 10.639/2003?
C8: Frequência | D8: Porcentual | I8: Fatores | J8: variável | K8: sim | L8: não | M8: Ausente | N8: N (respondente total) | O8: E (indicador por variável) | P8: E (total fator) | Q8: Escala Interpretativa | S8: Indicador de Verificação geral | T8: E | U8: Escala Interpretativa
A9: Válido | B9: não | C9: 27 | D9: 44.3 | I9: F1 | J9: 75 | K9: =C10 -> 34 | L9: =C9 -> 27 | M9: =0 -> 0 | N9: =C11 -> 61 | O9: =(N9-(M9+L9))/N9 -> 0.55737705 | P9: =(O9+O10+O11)/3 -> 0.56830601 | Q9: Moderada (0,40 - 0,69) | S9: ERER NRE AREA METRO SUL | T9: =(O9+O10+O11+O12+O13+O14+O15+O16+O17+O18+O19+O20+O21+O22+O23)/15 -> 0.66229508 | U9: Moderada (0,40 - 0,69)
B10: sim | C10: 34 | D10: 55.7 | J10: 76 | K10: =C18 -> 32 | L10: =C17 -> 29 | M10: =0 -> 0 | N10: =C19 -> 61 | O10: =(N10-(M10+L10))/N10 -> 0.52459016
B11: Total | C11: 61 | D11: 100 | J11: 77 | K11: =C26 -> 38 | L11: =C25 -> 23 | M11: =0 -> 0 | N11: =C27 -> 61 | O11: =(N11-(M11+L11))/N11 -> 0.62295082
I12: F2 | J12: 63 | K12: =C34 -> 36 | L12: =C33 -> 25 | M12: =0 -> 0 | N12: =C35 -> 61 | O12: =(N12-(M12+L12))/N12 -> 0.59016393 | P12: =(O12+O13+O14+O15)/4 -> 0.63934426 | Q12: Moderada (0,40 - 0,69)
J13: 64 | K13: =C42 -> 32 | L13: =C41 -> 29 | M13: =0 -> 0 | N13: =C43 -> 61 | O13: =(N13-(M13+L13))/N13 -> 0.52459016
A14: 76.Essa Unidade Escolar ofereceu, no último ano letivo, cursos de formação para professores(as) e demais funcionários(as) da escola sobre conteúdos referentes às relações étnico-raciais e a implementação da Lei n. 11.645/2008? | J14: 911 | K14: =C50 -> 48 | L14: =C49 -> 12 | M14: =C51 -> 1 | N14: =C52 -> 61 | O14: =(N14-(M14+L14))/N14 -> 0.78688525
J15: 93 | K15: =C59 -> 40 | L15: =C58 -> 20 | M15: =C60 -> 1 | N15: =C61 -> 61 | O15: =(N15-(M15+L15))/N15 -> 0.6557377
C16: Frequência | D16: Porcentual | I16: F3 | J16: 1072 | K16: =C84 -> 8 | L16: =C83 -> 51 | M16: =C85 -> 2 | N16: =C86 -> 61 | O16: =(N16-(M16+L16))/N16 -> 0.13114754 | P16: =O16 -> 0.13114754 | Q16: Irrisória (0 - 0,19
A17: Válido | B17: não | C17: 29 | D17: 47.5 | I17: F4 | J17: 102 | K17: =C68 -> 54 | L17: =C67 -> 7 | M17: =0 -> 0 | N17: =C69 -> 61 | O17: =(N17-(M17+L17))/N17 -> 0.8852459 | P17: =(O17+O18)/2 -> 0.8442623 | Q17: Representativa (0,70 - 0,89)
B18: sim | C18: 32 | D18: 52.5 | J18: 103 | K18: =C76 -> 49 | L18: =C75 -> 12 | M18: =0 -> 0 | N18: =C77 -> 61 | O18: =(N18-(M18+L18))/N18 -> 0.80327869 | T18: MUNICÍPIO DE LOCALIZAÇÃO DAS UNIDADES
B19: Total | C19: 61 | D19: 100 | I19: F5 | J19: 59 | K19: =C93 -> 38 | L19: =C92 -> 23 | M19: =0 -> 0 | N19: =C94 -> 61 | O19: =(N19-(M19+L19))/N19 -> 0.62295082 | P19: =(O19+O20)/2 -> 0.66393443 | Q19: Representativa (0,70 - 0,89)
J20: 510 | K20: =C101 -> 43 | L20: =C100 -> 18 | M20: =0 -> 0 | N20: =C102 -> 61 | O20: =(N20-(M20+L20))/N20 -> 0.70491803
I21: F6 | J21: 56 | K21: =C109 -> 53 | L21: =C108 -> 8 | M21: =0 -> 0 | N21: =C110 -> 61 | O21: =(N21-(M21+L21))/N21 -> 0.86885246 | P21: =(O21+O22)/2 -> 0.89344262 | Q21: Expressiva (0,90 - 1,00) | U21: Frequência | V21: Porcentual
A22: 77.Nessa Unidade Escolar foi realizada alguma formação, encontro ou reunião que instigasse a reflexão, por parte dos profissionais da educação, sobre seu pertencimento étnico-racial (ser branco, ser negro, ser terena, ser guarani, etc.)? | J22: 57 | K22: =C117 -> 56 | L22: =C116 -> 5 | M22: =0 -> 0 | N22: =C118 -> 61 | O22: =(N22-(M22+L22))/N22 -> 0.91803279 | T22: AGUDOS DO SUL | U22: 1 | V22: 1.6
I23: F7 | J23: 86 | K23: =C125 -> 45 | L23: =C124 -> 5 | M23: =C126 -> 11 | N23: =C127 -> 61 | O23: =(N23-(M23+L23))/N23 -> 0.73770492 | P23: =O23 -> 0.73770492 | Q23: Representativa (0,70 - 0,89) | T23: ARAUCARIA | U23: 8 | V23: 13.1
C24: Frequência | D24: Porcentual | T24: BALSA NOVA | U24: 3 | V24: 4.9
A25: Válido | B25: não | C25: 23 | D25: 37.7 | T25: CAMPO DO TENENTE | U25: 3 | V25: 4.9
B26: sim | C26: 38 | D26: 62.3 | I26: Nome da Unidade Escolar | T26: CAMPO LARGO | U26: 12 | V26: 19.7
B27: Total | C27: 61 | D27: 100 | T27: CONTENDA | U27: 5 | V27: 8.2
T28: FAZENDA RIO GRANDE | U28: 3 | V28: 4.9
I29: CEEBJA - ARAUCARIA | T29: LAPA | U29: 6 | V29: 9.8
A30: 63.Nessa Unidade Escolar desenvolvem-se pesquisas com entidades e/ou ativistas de movimentos sociais que estimulem os(as) estudantes a conhecerem a história da População Negra do Brasil? | I30: CEEBJA General Rabelo | T30: MANDIRITUBA | U30: 2 | V30: 3.3
I31: CEEBJA Prof Ziloah de Moura Carvalho | T31: PIEN | U31: 1 | V31: 1.6
C32: Frequência | D32: Porcentual | I32: CEEBJA PROF. DOMINGOS CAVALLI | T32: QUITANDINHA | U32: 3 | V32: 4.9
A33: Válido | B33: não | C33: 25 | D33: 41 | I33: CENTRO ESTADUAL DE EDUCAÇÃO BÁSICA PARA JOVENS E ADULTOS DE SÃO JOSÉ DOS PINHAIS - PR | T33: RIO NEGRO | U33: 4 | V33: 6.6
B34: sim | C34: 36 | D34: 59 | I34: CENTRO ESTADUAL DE EDUCAÇÃO BÁSICA PARA JOVENS E ADULTOS PAULO LEMINSKI - EFM | T34: SAO JOSE DOS PINHAIS | U34: 10 | V34: 16.4
B35: Total | C35: 61 | D35: 100 | I35: Centro Estadual de Educacao Profissional Agricola da Lapa | T35: Total | U35: 61 | V35: 100
I36: Colegio Estadual Professor Elzeario Pitz - EFM
I37: COLEGIO ESTADUAL ABILIO LOURENCO DOS SANTOS
A38: 64.Nessa Unidade Escolar desenvolvem-se pesquisas com entidades e/ou ativistas de movimentos sociais que estimulem os(as) estudantes a conhecerem a história da População Indígena brasileira? | I38: Colégio Estadual Alfredo Greipel Junior | T38: Localização da Unidade Escolar
I39: COLEGIO ESTADUAL ANITA CANET - (EFMP)
C40: Frequência | D40: Porcentual | I40: COLEGIO ESTADUAL AUGUSTO VANIN EFM | U40: Frequência | V40: Porcentual
A41: Válido | B41: não | C41: 29 | D41: 47.5 | I41: COLÉGIO ESTADUAL CASEMIRO KARMAN - ENSINO FUNDAMENTAL E MÉDIO. | T41: Zona Urbana | U41: 43 | V41: 70.5
B42: sim | C42: 32 | D42: 52.5 | I42: COLEGIO ESTADUAL CHICO MENDES | T42: Zona Rural | U42: 18 | V42: 29.5
B43: Total | C43: 61 | D43: 100 | I43: Colégio Estadual da Colônia Murici Ens. Fund. e Médio | T43: Total | U43: 61 | V43: 100
...

Sheet Assis Chateaubr
A1: NÚCLEO REGIONAL | B1: ESCOLAS ESTADUAIS RESPONDENTES | C1: ESCOLAS ESTADUAIS ATIVAS 2018 | D1: % DE RESPOSTAS | F1: NRE ASSIS CHATEAUB
A2: ASSIS CHATEAUBR | B2: 29 | C2: 30 | D2: 96.666667
A4: QUESTÕES UTILIZADAS PARA FORMAÇÃO DOS FATORES DE ANÁLISE
A7: 75.A Unidade Escolar ofereceu, no último ano letivo, cursos de formação para professores(as) e demais funcionários(as) da escola sobre conteúdos referentes às relações raciais e a implementação da Lei n. 10.639/2003?
C8: Frequência | D8: Porcentual | I8: Fatores | J8: variável | K8: sim | L8: não | M8: Ausente | N8: N (respondente total) | O8: E (indicador por variável) | P8: E (total fator) | Q8: Escala Interpretativa | S8: Indicador de Verificação geral | T8: E | U8: Escala Interpretativa
A9: Válido | B9: não | C9: 11 | D9: 37.9 | I9: F1 | J9: 75 | K9: =C10 -> 18 | L9: =C9 -> 11 | M9: =0 -> 0 | N9: =C11 -> 29 | O9: =(N9-(M9+L9))/N9 -> 0.62068966 | P9: =(O9+O10+O11)/3 -> 0.66666667 | Q9: Moderada (0,40 - 0,69) | S9: ERER NRE ASSIS CHATEAUBR | T9: =(O9+O10+O11+O12+O13+O14+O15+O16+O17+O18+O19+O20+O21+O22+O23)/15 -> 0.68965517 | U9: Moderada (0,40 - 0,69)
B10: sim | C10: 18 | D10: 62.1 | J10: 76 | K10: =C18 -> 20 | L10: =C17 -> 9 | M10: =0 -> 0 | N10: =C19 -> 29 | O10: =(N10-(M10+L10))/N10 -> 0.68965517
B11: Total | C11: 29 | D11: 100 | J11: 77 | K11: =C26 -> 20 | L11: =C25 -> 9 | M11: =0 -> 0 | N11: =C27 -> 29 | O11: =(N11-(M11+L11))/N11 -> 0.68965517
I12: F2 | J12: 63 | K12: =C34 -> 11 | L12: =C33 -> 18 | M12: =0 -> 0 | N12: =C35 -> 29 | O12: =(N12-(M12+L12))/N12 -> 0.37931034 | P12: =(O12+O13+O14+O15)/4 -> 0.62931034 | Q12: Moderada (0,40 - 0,69)
J13: 64 | K13: =C42 -> 8 | L13: =C41 -> 21 | M13: =0 -> 0 | N13: =C43 -> 29 | O13: =(N13-(M13+L13))/N13 -> 0.27586207
A14: 76.Essa Unidade Escolar ofereceu, no último ano letivo, cursos de formação para professores(as) e demais funcionários(as) da escola sobre conteúdos referentes às relações étnico-raciais e a implementação da Lei n. 11.645/2008? | J14: 911 | K14: =C50 -> 28 | L14: =C49 -> 1 | M14: =C51 -> 0 | N14: =C52 -> 29 | O14: =(N14-(M14+L14))/N14 -> 0.96551724
J15: 93 | K15: =C59 -> 26 | L15: =C58 -> 3 | M15: =C60 -> 0 | N15: =C61 -> 29 | O15: =(N15-(M15+L15))/N15 -> 0.89655172
C16: Frequência | D16: Porcentual | I16: F3 | J16: 1072 | K16: =C84 -> 1 | L16: =C83 -> 27 | M16: =C85 -> 1 | N16: =C86 -> 29 | O16: =(N16-(M16+L16))/N16 -> 0.034482759 | P16: =O16 -> 0.034482759 | Q16: Irrisória (0 - 0,19
A17: Válido | B17: não | C17: 9 | D17: 31 | I17: F4 | J17: 102 | K17: =C68 -> 26 | L17: =C67 -> 3 | M17: =0 -> 0 | N17: =C69 -> 29 | O17: =(N17-(M17+L17))/N17 -> 0.89655172 | P17: =(O17+O18)/2 -> 0.87931034 | Q17: Representativa (0,70 - 0,89) | S17: MUNICÍPIOS
B18: sim | C18: 20 | D18: 69 | J18: 103 | K18: =C76 -> 25 | L18: =C75 -> 4 | M18: =0 -> 0 | N18: =C77 -> 29 | O18: =(N18-(M18+L18))/N18 -> 0.86206897
B19: Total | C19: 29 | D19: 100 | I19: F5 | J19: 59 | K19: =C93 -> 16 | L19: =C92 -> 13 | M19: =0 -> 0 | N19: =C94 -> 29 | O19: =(N19-(M19+L19))/N19 -> 0.55172414 | P19: =(O19+O20)/2 -> 0.67241379 | Q19: Moderada (0,40 - 0,69) | T19: Frequência | U19: Porcentual
J20: 510 | K20: =C101 -> 23 | L20: =C100 -> 6 | M20: =0 -> 0 | N20: =C102 -> 29 | O20: =(N20-(M20+L20))/N20 -> 0.79310345 | S20: ASSIS CHATEAUBRIAND | T20: 13 | U20: 44.8
I21: F6 | J21: 56 | K21: =C109 -> 25 | L21: =C108 -> 4 | M21: =0 -> 0 | N21: =C110 -> 29 | O21: =(N21-(M21+L21))/N21 -> 0.86206897 | P21: =(O21+O22)/2 -> 0.89655172 | Q21: Expressiva (0,90 - 1,00) | S21: BRASILANDIA DO SUL | T21: 1 | U21: 3.4
A22: 77.Nessa Unidade Escolar foi realizada alguma formação, encontro ou reunião que instigasse a reflexão, por parte dos profissionais da educação, sobre seu pertencimento étnico-racial (ser branco, ser negro, ser terena, ser guarani, etc.)? | J22: 57 | K22: =C117 -> 27 | L22: =C116 -> 2 | M22: =0 -> 0 | N22: =C118 -> 29 | O22: =(N22-(M22+L22))/N22 -> 0.93103448 | S22: FORMOSA DO OESTE | T22: 5 | U22: 17.2
I23: F7 | J23: 86 | K23: =C125 -> 26 | L23: =C124 -> 1 | M23: =C126 -> 2 | N23: =C127 -> 29 | O23: =(N23-(M23+L23))/N23 -> 0.89655172 | P23: =O23 -> 0.89655172 | Q23: Expressiva (0,90 - 1,00) | S23: IRACEMA DO OESTE | T23: 1 | U23: 3.4
C24: Frequência | D24: Porcentual | S24: JESUITAS | T24: 2 | U24: 6.9
A25: Válido | B25: não | C25: 9 | D25: 31 | K25: Localização da Unidade Escolar | S25: NOVA AURORA | T25: 4 | U25: 13.8
B26: sim | C26: 20 | D26: 69 | S26: TUPASSI | T26: 3 | U26: 10.3
B27: Total | C27: 29 | D27: 100 | L27: Frequência | M27: Porcentual | S27: Total | T27: 29 | U27: 100
K28: Zona Urbana | L28: 24 | M28: 82.8
K29: Zona Rural | L29: 5 | M29: 17.2
A30: 63.Nessa Unidade Escolar desenvolvem-se pesquisas com entidades e/ou ativistas de movimentos sociais que estimulem os(as) estudantes a conhecerem a história da População Negra do Brasil? | K30: Total | L30: 29 | M30: 100
C32: Frequência | D32: Porcentual
A33: Válido | B33: não | C33: 18 | D33: 62.1 | K33: Principal modalidade de Educação adotada na Unidade Escolar
B34: sim | C34: 11 | D34: 37.9
B35: Total | C35: 29 | D35: 100 | L35: Frequência | M35: Porcentual
K36: Educação Básica (Currículo Comum Nacional) | L36: 24 | M36: 82.8
K37: Educação do Campo | L37: 3 | M37: 10.3
A38: 64.Nessa Unidade Escolar desenvolvem-se pesquisas com entidades e/ou ativistas de movimentos sociais que estimulem os(as) estudantes a conhecerem a história da População Indígena brasileira? | K38: Educação Profissional Técnica de Nível Médio | L38: 2 | M38: 6.9
K39: Total | L39: 29 | M39: 100
C40: Frequência | D40: Porcentual
A41: Válido | B41: não | C41: 21 | D41: 72.4
B42: sim | C42: 8 | D42: 27.6 | K42: Quesito cor/raça no cadastro das/os profissionais
B43: Total | C43: 29 | D43: 100
L44: Frequência | M44: Porcentual
...

Sheet Campo Mourão
A1: NÚCLEO REGIONAL | B1: ESCOLAS ESTADUAIS RESPONDENTES | C1: ESCOLAS ESTADUAIS ATIVAS 2018 | D1: % DE RESPOSTAS | F1: NRE CAMPO MOURÃO
A2: CAMPO MOURAO | B2: 43 | C2: 56 | D2: 76.785714
A4: QUESTÕES UTILIZADAS PARA FORMAÇÃO DOS FATORES DE ANÁLISE
A6: 75.A Unidade Escolar ofereceu, no último ano letivo, cursos de formação para professores(as) e demais funcionários(as) da escola sobre conteúdos referentes às relações raciais e a implementação da Lei n. 10.639/2003?
C8: Frequência | D8: Porcentual | I8: Fatores | J8: variável | K8: sim | L8: não | M8: Ausente | N8: N (respondente total) | O8: E (indicador por variável) | P8: E (total fator) | Q8: Escala Interpretativa | T8: Indicador de Verificação geral | U8: E | V8: Escala Interpretativa
A9: Válido | B9: não | C9: 12 | D9: 27.9 | I9: F1 | J9: 75 | K9: =C10 -> 31 | L9: =C9 -> 12 | M9: =0 -> 0 | N9: =C11 -> 43 | O9: =(N9-(M9+L9))/N9 -> 0.72093023 | P9: =(O9+O10+O11)/3 -> 0.76744186 | Q9: Moderada (0,40 - 0,69) | T9: ERER NRE CAMPO MOURÃO | U9: =(O9+O10+O11+O12+O13+O14+O15+O16+O17+O18+O19+O20+O21+O22+O23)/15 -> 0.71317829 | V9: Representativa (0,70 - 0,89)
B10: sim | C10: 31 | D10: 72.1 | J10: 76 | K10: =C18 -> 31 | L10: =C17 -> 12 | M10: =0 -> 0 | N10: =C19 -> 43 | O10: =(N10-(M10+L10))/N10 -> 0.72093023
B11: Total | C11: 43 | D11: 100 | J11: 77 | K11: =C26 -> 37 | L11: =C25 -> 6 | M11: =0 -> 0 | N11: =C27 -> 43 | O11: =(N11-(M11+L11))/N11 -> 0.86046512
I12: F2 | J12: 63 | K12: =C34 -> 17 | L12: =C33 -> 26 | M12: =0 -> 0 | N12: =C35 -> 43 | O12: =(N12-(M12+L12))/N12 -> 0.39534884 | P12: =(O12+O13+O14+O15)/4 -> 0.65697674 | Q12: Moderada (0,40 - 0,69)
J13: 64 | K13: =C42 -> 15 | L13: =C41 -> 28 | M13: =0 -> 0 | N13: =C43 -> 43 | O13: =(N13-(M13+L13))/N13 -> 0.34883721
A14: 76.Essa Unidade Escolar ofereceu, no último ano letivo, cursos de formação para professores(as) e demais funcionários(as) da escola sobre conteúdos referentes às relações étnico-raciais e a implementação da Lei n. 11.645/2008? | J14: 911 | K14: =C50 -> 42 | L14: =C49 -> 1 | M14: =C51 -> 0 | N14: =C52 -> 43 | O14: =(N14-(M14+L14))/N14 -> 0.97674419 | T14: Nome da Unidade Escolar
J15: 93 | K15: =C59 -> 39 | L15: =C58 -> 4 | M15: =C60 -> 0 | N15: =C61 -> 43 | O15: =(N15-(M15+L15))/N15 -> 0.90697674
C16: Frequência | D16: Porcentual | I16: F3 | J16: 1072 | K16: =C84 -> 5 | L16: =C83 -> 37 | M16: =C85 -> 1 | N16: =C86 -> 43 | O16: =(N16-(M16+L16))/N16 -> 0.11627907 | P16: =O16 -> 0.11627907 | Q16: Irrisória (0 - 0,19
A17: Válido | B17: não | C17: 12 | D17: 27.9 | I17: F4 | J17: 102 | K17: =C68 -> 36 | L17: =C67 -> 7 | M17: =0 -> 0 | N17: =C69 -> 43 | O17: =(N17-(M17+L17))/N17 -> 0.8372093 | P17: =(O17+O18)/2 -> 0.8372093 | Q17: Representativa (0,70 - 0,89) | T17: CEEBJA Elias Abrahão
B18: sim | C18: 31 | D18: 72.1 | J18: 103 | K18: =C76 -> 36 | L18: =C75 -> 7 | M18: =0 -> 0 | N18: =C77 -> 43 | O18: =(N18-(M18+L18))/N18 -> 0.8372093 | T18: CENTRO ESTADUAL DE EDUCACAO BASICA PARA JO0VENS E ADULTOS DE CAMPO MOURAO
B19: Total | C19: 43 | D19: 100 | I19: F5 | J19: 59 | K19: =C93 -> 26 | L19: =C92 -> 17 | M19: =0 -> 0 | N19: =C94 -> 43 | O19: =(N19-(M19+L19))/N19 -> 0.60465116 | P19: =(O19+O20)/2 -> 0.68604651 | Q19: Representativa (0,70 - 0,89) | T19: CENTRO ESTADUAL DE EDUCACAO PROFISSIONAL AGRICOLA DE CAMPO MOURAO
J20: 510 | K20: =C101 -> 33 | L20: =C100 -> 10 | M20: =0 -> 0 | N20: =C102 -> 43 | O20: =(N20-(M20+L20))/N20 -> 0.76744186 | T20: COLÉGIO ESTADUA PREFEITO ANTONIO TEODORO DE OLIVEIRA - EFM
I21: F6 | J21: 56 | K21: =C109 -> 39 | L21: =C108 -> 4 | M21: =0 -> 0 | N21: =C110 -> 43 | O21: =(N21-(M21+L21))/N21 -> 0.90697674 | P21: =(O21+O22)/2 -> 0.90697674 | Q21: Expressiva (0,90 - 1,00) | T21: Colegio Estadual do Campo Salles de Oliveira-EFM.
A22: 77.Nessa Unidade Escolar foi realizada alguma formação, encontro ou reunião que instigasse a reflexão, por parte dos profissionais da educação, sobre seu pertencimento étnico-racial (ser branco, ser negro, ser terena, ser guarani, etc.)? | J22: 57 | K22: =C117 -> 39 | L22: =C116 -> 4 | M22: =0 -> 0 | N22: =C118 -> 43 | O22: =(N22-(M22+L22))/N22 -> 0.90697674 | T22: COLEGIO ESTADUAL ADAUCTO DA SILVA ROCHA - EFM
I23: F7 | J23: 86 | K23: =C125 -> 34 | L23: =C124 -> 4 | M23: =C126 -> 5 | N23: =C127 -> 43 | O23: =(N23-(M23+L23))/N23 -> 0.79069767 | P23: =O23 -> 0.79069767 | Q23: Representativa (0,70 - 0,89) | T23: COLEGIO ESTADUAL ALBERTO SANTOS DUMONT - EFMP.
C24: Frequência | D24: Porcentual | T24: COLEGIO ESTADUAL ALTAMIRA DO PARANÁ EFM
A25: Válido | B25: não | C25: 6 | D25: 14 | T25: COLÉGIO ESTADUAL ANIBAL KHURY E.F.M
B26: sim | C26: 37 | D26: 86 | I26: MUNICÍPIOS | T26: COLÉGIO ESTADUAL CAMPINA DA LAGOA-EFMPN
B27: Total | C27: 43 | D27: 100 | T27: COLEGIO ESTADUAL CORUMATAI DO SUL E.F.M
J28: Frequência | K28: Porcentual | T28: COLÉGIO ESTADUAL CULTURA UNIVERSAL. E.F.M.
I29: ALTAMIRA DO PARANA | J29: 1 | K29: 2.3 | T29: COLEGIO ESTADUAL DO CAMPO DE ALTO SAO JOAO - EFM
A30: 63.Nessa Unidade Escolar desenvolvem-se pesquisas com entidades e/ou ativistas de movimentos sociais que estimulem os(as) estudantes a conhecerem a história da População Negra do Brasil? | I30: ARARUNA | J30: 2 | K30: 4.7 | T30: COLEGIO ESTADUAL DO CAMPO DE BOURBONIA
I31: BARBOSA FERRAZ | J31: 4 | K31: 9.3 | T31: COLÉGIO ESTADUAL DO CAMPO GABRIEL SEGUNDO SCIPIONE- EFM
C32: Frequência | D32: Porcentual | I32: CAMPINA DA LAGOA | J32: 4 | K32: 9.3 | T32: COLÉGIO ESTADUAL DO CAMPO JOANA DARC ENSINO FUNDAMENTAL E MÉDIO
A33: Válido | B33: não | C33: 26 | D33: 60.5 | I33: CAMPO MOURAO | J33: 8 | K33: 18.6 | T33: COLEGIO ESTADUAL DO CAMPO RUI BARBOSA-EFM
B34: sim | C34: 17 | D34: 39.5 | I34: CORUMBATAI DO SUL | J34: 1 | K34: 2.3 | T34: COLEGIO ESTADUAL DO CAMPO SANTO REI ENSINO FUNDAMENTAL E MEDIO
B35: Total | C35: 43 | D35: 100 | I35: ENGENHEIRO BELTRAO | J35: 6 | K35: 14 | T35: COLÉGIO ESTADUAL DO CAMPO SÃO LUÍZ GONZAGA
I36: FAROL | J36: 1 | K36: 2.3 | T36: COLEGIO ESTADUAL DOM BOSCO - EFMP
I37: IRETAMA | J37: 4 | K37: 9.3 | T37: Colegio Estadual Dr Osvaldo Cruz
A38: 64.Nessa Unidade Escolar desenvolvem-se pesquisas com entidades e/ou ativistas de movimentos sociais que estimulem os(as) estudantes a conhecerem a história da População Indígena brasileira? | I38: LUIZIANA | J38: 1 | K38: 2.3 | T38: COLÉGIO ESTADUAL GENERAL CARNEIRO - EFMP
I39: MAMBORE | J39: 3 | K39: 7 | T39: COLEGIO ESTADUAL JOAO XXIII - EFM
C40: Frequência | D40: Porcentual | I40: NOVA CANTU | J40: 3 | K40: 7 | T40: COLEGIO ESTADUAL JOSE SARMENTO FILHO- EFN.
A41: Válido | B41: não | C41: 28 | D41: 65.1 | I41: PEABIRU | J41: 1 | K41: 2.3 | T41: COLÉGIO ESTADUAL LUZIA GARCIA VILLAR - EFM
B42: sim | C42: 15 | D42: 34.9 | I42: RONCADOR | J42: 4 | K42: 9.3 | T42: Colégio Estadual Machado de Assis de Barbosa Ferraz
B43: Total | C43: 43 | D43: 100 | I43: Total | J43: 43 | K43: 100 | T43: COLÉGIO ESTADUAL NAPOLEÃO BATISTA SOBRINHO
...

Sheet Cascavel
A1: NÚCLEO REGIONAL | B1: ESCOLAS ESTADUAIS RESPONDENTES | C1: ESCOLAS ESTADUAIS ATIVAS 2018 | D1: % DE RESPOSTAS | F1: NRE CASCAVEL
A2: CASCAVEL | B2: 76 | C2: 93 | D2: =B2*100/C2 -> 81.72043
A4: QUESTÕES UTILIZADAS PARA FORMAÇÃO DOS FATORES DE ANÁLISE
A6: 75.A Unidade Escolar ofereceu, no último ano letivo, cursos de formação para professores(as) e demais funcionários(as) da escola sobre conteúdos referentes às relações raciais e a implementação da Lei n. 10.639/2003?
C8: Frequência | D8: Porcentual | I8: Fatores | J8: variável | K8: sim | L8: não | M8: Ausente | N8: N (respondente total) | O8: E (indicador por variável) | P8: E (total fator) | Q8: Escala Interpretativa | T8: Indicador de Verificação geral | U8: E | V8: Escala Interpretativa
A9: Válido | B9: não | C9: 25 | D9: 32.9 | I9: F1 | J9: 75 | K9: =C10 -> 51 | L9: =C9 -> 25 | M9: =0 -> 0 | N9: =C11 -> 76 | O9: =(N9-(M9+L9))/N9 -> 0.67105263 | P9: =(O9+O10+O11)/3 -> 0.70175439 | Q9: Representativa (0,70 - 0,89) | T9: ERER NRE CASCAVEL | U9: =(O9+O10+O11+O12+O13+O14+O15+O16+O17+O18+O19+O20+O21+O22+O23)/15 -> 0.71754386 | V9: Representativa (0,70 - 0,89)
B10: sim | C10: 51 | D10: 67.1 | J10: 76 | K10: =C18 -> 52 | L10: =C17 -> 24 | M10: =0 -> 0 | N10: =C19 -> 76 | O10: =(N10-(M10+L10))/N10 -> 0.68421053
B11: Total | C11: 76 | D11: 100 | J11: 77 | K11: =C26 -> 57 | L11: =C25 -> 19 | M11: =0 -> 0 | N11: =C27 -> 76 | O11: =(N11-(M11+L11))/N11 -> 0.75
I12: F2 | J12: 63 | K12: =C34 -> 44 | L12: =C33 -> 32 | M12: =0 -> 0 | N12: =C35 -> 76 | O12: =(N12-(M12+L12))/N12 -> 0.57894737 | P12: =(O12+O13+O14+O15)/4 -> 0.72039474 | Q12: Representativa (0,70 - 0,89)
J13: 64 | K13: =C42 -> 39 | L13: =C41 -> 37 | M13: =0 -> 0 | N13: =C43 -> 76 | O13: =(N13-(M13+L13))/N13 -> 0.51315789
A14: 76.Essa Unidade Escolar ofereceu, no último ano letivo, cursos de formação para professores(as) e demais funcionários(as) da escola sobre conteúdos referentes às relações étnico-raciais e a implementação da Lei n. 11.645/2008? | J14: 911 | K14: =C50 -> 72 | L14: =C49 -> 4 | M14: =C51 -> 0 | N14: =C52 -> 76 | O14: =(N14-(M14+L14))/N14 -> 0.94736842
J15: 93 | K15: =C59 -> 64 | L15: =C58 -> 12 | M15: =C60 -> 0 | N15: =C61 -> 76 | O15: =(N15-(M15+L15))/N15 -> 0.84210526
C16: Frequência | D16: Porcentual | I16: F3 | J16: 1072 | K16: =C84 -> 9 | L16: =C83 -> 66 | M16: =C85 -> 1 | N16: =C86 -> 76 | O16: =(N16-(M16+L16))/N16 -> 0.11842105 | P16: =O16 -> 0.11842105 | Q16: Irrisória (0 - 0,19 | T16: Nome da Unidade Escolar
A17: Válido | B17: não | C17: 24 | D17: 31.6 | I17: F4 | J17: 102 | K17: =C68 -> 69 | L17: =C67 -> 7 | M17: =0 -> 0 | N17: =C69 -> 76 | O17: =(N17-(M17+L17))/N17 -> 0.90789474 | P17: =(O17+O18)/2 -> 0.86842105 | Q17: Representativa (0,70 - 0,89)
B18: sim | C18: 52 | D18: 68.4 | J18: 103 | K18: =C76 -> 63 | L18: =C75 -> 13 | M18: =0 -> 0 | N18: =C77 -> 76 | O18: =(N18-(M18+L18))/N18 -> 0.82894737
B19: Total | C19: 76 | D19: 100 | I19: F5 | J19: 59 | K19: =C93 -> 51 | L19: =C92 -> 25 | M19: =0 -> 0 | N19: =C94 -> 76 | O19: =(N19-(M19+L19))/N19 -> 0.67105263 | P19: =(O19+O20)/2 -> 0.73026316 | Q19: Representativa (0,70 - 0,89) | T19: CEEBJA - PROFESSOR ALBANO TOMASINI
J20: 510 | K20: =C101 -> 60 | L20: =C100 -> 16 | M20: =0 -> 0 | N20: =C102 -> 76 | O20: =(N20-(M20+L20))/N20 -> 0.78947368 | T20: CEEBJA PROFESSORA ALCI ASSUNTA CERESOLI STEUERNAGEL ENSINO FUNDAMENTAL E MÉDIO
I21: F6 | J21: 56 | K21: =C109 -> 66 | L21: =C108 -> 10 | M21: =0 -> 0 | N21: =C110 -> 76 | O21: =(N21-(M21+L21))/N21 -> 0.86842105 | P21: =(O21+O22)/2 -> 0.90131579 | Q21: Expressiva (0,90 - 1,00) | T21: CEEBJA PROFESSORA JOAQUINA MATTOS BRANCO
A22: 77.Nessa Unidade Escolar foi realizada alguma formação, encontro ou reunião que instigasse a reflexão, por parte dos profissionais da educação, sobre seu pertencimento étnico-racial (ser branco, ser negro, ser terena, ser guarani, etc.)? | J22: 57 | K22: =C117 -> 71 | L22: =C116 -> 5 | M22: =0 -> 0 | N22: =C118 -> 76 | O22: =(N22-(M22+L22))/N22 -> 0.93421053 | T22: CEEBJA WILSON ANTONIO NEDUZIAK
I23: F7 | J23: 86 | K23: =C125 -> 50 | L23: =C124 -> 7 | M23: =C126 -> 19 | N23: =C127 -> 76 | O23: =(N23-(M23+L23))/N23 -> 0.65789474 | P23: =O23 -> 0.65789474 | Q23: Moderada (0,40 - 0,69) | T23: CENTRO ESTADUAL DE EDUCAÇÃO PROFISSIONAL PEDRO BOARETTO NETO
C24: Frequência | D24: Porcentual | T24: COLEGIO ESTADUAL ANTONIO DE CASTRO ALVES, ENSINO FUNDAMENTAL E MEDIO
A25: Válido | B25: não | C25: 19 | D25: 25 | T25: Colegio Estadual Sao Cristovao
B26: sim | C26: 57 | D26: 75 | I26: MUNICÍPIOS | T26: COLEGIO ESTADUAL ACQUILINO MASSOCHIN
B27: Total | C27: 76 | D27: 100 | T27: COLEGIO ESTADUAL ALBERTO SANTOS DUMONT
J28: Frequência | K28: Porcentual | T28: Colégio Estadual Amâncio Moro EFMNP
I29: ANAHY | J29: 1 | K29: 1.3 | T29: COLEGIO ESTADUAL CARLOS ARGEMIRO CAMARGO - EFM
A30: 63.Nessa Unidade Escolar desenvolvem-se pesquisas com entidades e/ou ativistas de movimentos sociais que estimulem os(as) estudantes a conhecerem a história da População Negra do Brasil? | I30: BOA VISTA DA APARECIDA | J30: 3 | K30: 3.9 | T30: Colegio Estadual Cataratas - EFM
I31: BRAGANEY | J31: 2 | K31: 2.6 | T31: Colegio Estadual Desembargador Antonio Franco Ferreira da Costa
C32: Frequência | D32: Porcentual | I32: CAFELANDIA | J32: 3 | K32: 3.9 | T32: COLEGIO ESTADUAL DO CAMPO ALTO ALEGRE DO IGUACU
A33: Válido | B33: não | C33: 32 | D33: 42.1 | I33: CAMPO BONITO | J33: 2 | K33: 2.6 | T33: COLÉGIO ESTADUAL DO CAMPO BENJAMIM ANTONIO MOTTER
B34: sim | C34: 44 | D34: 57.9 | I34: CAPITAO LEONIDAS MARQUES | J34: 5 | K34: 6.6 | T34: COLEGIO ESTADUAL DO CAMPO DE JUVINOPOLIS
B35: Total | C35: 76 | D35: 100 | I35: CASCAVEL | J35: 31 | K35: 40.8 | T35: COLEGIO ESTADUAL DO CAMPO DE RIO DO SALTO-EFM
I36: CATANDUVAS | J36: 4 | K36: 5.3 | T36: COLEGIO ESTADUAL DO CAMPO JOSE DE ALENCAR - EFMN
I37: CEU AZUL | J37: 2 | K37: 2.6 | T37: COLÉGIO ESTADUAL DO CAMPO lONGUINÓPOLIS/EFM
A38: 64.Nessa Unidade Escolar desenvolvem-se pesquisas com entidades e/ou ativistas de movimentos sociais que estimulem os(as) estudantes a conhecerem a história da População Indígena brasileira? | I38: CORBELIA | J38: 3 | K38: 3.9 | T38: COLEGIO ESTADUAL DO CAMPO NOVA UNIAO - EFM.
I39: GUARANIACU | J39: 6 | K39: 7.9 | T39: COLEGIO ESTADUAL DO CAMPO OCTAVIO TOZO - EFM
C40: Frequência | D40: Porcentual | I40: IBEMA | J40: 1 | K40: 1.3 | T40: COLEGIO ESTADUAL DO CAMPO OLAVO BILAC - EFM
A41: Válido | B41: não | C41: 37 | D41: 48.7 | I41: LINDOESTE | J41: 2 | K41: 2.6 | T41: COLÉGIO ESTADUAL DO CAMPO OTAVIO FOLDA - EFM
B42: sim | C42: 39 | D42: 51.3 | I42: SANTA LUCIA | J42: 2 | K42: 2.6 | T42: COLEGIO ESTADUAL DO CAMPO PEDRO ERNESTO GARLET - EFM
B43: Total | C43: 76 | D43: 100 | I43: SANTA TEREZA DO OESTE | J43: 3 | K43: 3.9 | T43: COLÉGIO ESTADUAL DO CAMPO PEDRO LUIZ MESSIAS ENSINO FUNDAMENTAL E MÉDIO
...

Sheet Cianorte
A1: NÚCLEO REGIONAL | B1: ESCOLAS ESTADUAIS RESPONDENTES | C1: ESCOLAS ESTADUAIS ATIVAS 2018 | D1: % DE RESPOSTAS | F1: NRE CIANORTE
A2: CIANORTE | B2: 31 | C2: 33 | D2: 93.939394
A4: QUESTÕES UTILIZADAS PARA FORMAÇÃO DOS FATORES DE ANÁLISE
A6: 75.A Unidade Escolar ofereceu, no último ano letivo, cursos de formação para professores(as) e demais funcionários(as) da escola sobre conteúdos referentes às relações raciais e a implementação da Lei n. 10.639/2003?
C8: Frequência | D8: Porcentual | I8: Fatores | J8: variável | K8: sim | L8: não | M8: Ausente | N8: N (respondente total) | O8: E (indicador por variável) | P8: E (total fator) | Q8: Escala Interpretativa | T8: Indicador de Verificação geral | U8: E | V8: Escala Interpretativa
A9: Válido | B9: não | C9: 13 | D9: 41.9 | I9: F1 | J9: 75 | K9: =C10 -> 18 | L9: =C9 -> 13 | M9: =0 -> 0 | N9: =C11 -> 31 | O9: =(N9-(M9+L9))/N9 -> 0.58064516 | P9: =(O9+O10+O11)/3 -> 0.6344086 | Q9: Moderada (0,40 - 0,69) | T9: ERER NRE CIANORTE | U9: =(O9+O10+O11+O12+O13+O14+O15+O16+O17+O18+O19+O20+O21+O22+O23)/15 -> 0.69247312 | V9: Moderada (0,40 - 0,69)
B10: sim | C10: 18 | D10: 58.1 | J10: 76 | K10: =C18 -> 19 | L10: =C17 -> 12 | M10: =0 -> 0 | N10: =C19 -> 31 | O10: =(N10-(M10+L10))/N10 -> 0.61290323
B11: Total | C11: 31 | D11: 100 | J11: 77 | K11: =C26 -> 22 | L11: =C25 -> 9 | M11: =0 -> 0 | N11: =C27 -> 31 | O11: =(N11-(M11+L11))/N11 -> 0.70967742
I12: F2 | J12: 63 | K12: =C34 -> 15 | L12: =C33 -> 16 | M12: =0 -> 0 | N12: =C35 -> 31 | O12: =(N12-(M12+L12))/N12 -> 0.48387097 | P12: =(O12+O13+O14+O15)/4 -> 0.70967742 | Q12: Representativa (0,70 - 0,89)
J13: 64 | K13: =C42 -> 11 | L13: =C41 -> 20 | M13: =0 -> 0 | N13: =C43 -> 31 | O13: =(N13-(M13+L13))/N13 -> 0.35483871
A14: 76.Essa Unidade Escolar ofereceu, no último ano letivo, cursos de formação para professores(as) e demais funcionários(as) da escola sobre conteúdos referentes às relações étnico-raciais e a implementação da Lei n. 11.645/2008? | J14: 911 | K14: =C50 -> 31 | L14: =C49 -> 0 | M14: =C51 -> 0 | N14: =C52 -> 31 | O14: =(N14-(M14+L14))/N14 -> 1
J15: 93 | K15: =C59 -> 31 | L15: =C58 -> 0 | M15: =C60 -> 0 | N15: =C61 -> 31 | O15: =(N15-(M15+L15))/N15 -> 1 | S15: Nome da Unidade Escolar
C16: Frequência | D16: Porcentual | I16: F3 | J16: 1072 | K16: =C84 -> 3 | L16: =C83 -> 28 | M16: =C85 -> 0 | N16: =C86 -> 31 | O16: =(N16-(M16+L16))/N16 -> 0.096774194 | P16: =O16 -> 0.096774194 | Q16: Irrisória (0 - 0,19
A17: Válido | B17: não | C17: 12 | D17: 38.7 | I17: F4 | J17: 102 | K17: =C68 -> 27 | L17: =C67 -> 4 | M17: =0 -> 0 | N17: =C69 -> 31 | O17: =(N17-(M17+L17))/N17 -> 0.87096774 | P17: =(O17+O18)/2 -> 0.85483871 | Q17: Representativa (0,70 - 0,89) | S17: CEEBJA SAADA MITRE ABOU NABHAN
B18: sim | C18: 19 | D18: 61.3 | J18: 103 | K18: =C76 -> 26 | L18: =C75 -> 5 | M18: =0 -> 0 | N18: =C77 -> 31 | O18: =(N18-(M18+L18))/N18 -> 0.83870968 | S18: CEEBJA VINICIUS DE MORAES - EFM
B19: Total | C19: 31 | D19: 100 | I19: F5 | J19: 59 | K19: =C93 -> 14 | L19: =C92 -> 17 | M19: =0 -> 0 | N19: =C94 -> 31 | O19: =(N19-(M19+L19))/N19 -> 0.4516129 | P19: =(O19+O20)/2 -> 0.53225806 | Q19: Moderada (0,40 - 0,69) | S19: CEEP CIANORTE- CENTRO ESTADUAL DE EDUCAÇÃO PROFISSIONAL CIANORTE
J20: 510 | K20: =C101 -> 19 | L20: =C100 -> 12 | M20: =0 -> 0 | N20: =C102 -> 31 | O20: =(N20-(M20+L20))/N20 -> 0.61290323 | S20: COLEGIO ESTADUAL EMÍLIO DE MENEZES - EFM
I21: F6 | J21: 56 | K21: =C109 -> 29 | L21: =C108 -> 2 | M21: =0 -> 0 | N21: =C110 -> 31 | O21: =(N21-(M21+L21))/N21 -> 0.93548387 | P21: =(O21+O22)/2 -> 0.96774194 | Q21: Expressiva (0,90 - 1,00) | S21: COLEGIO ESTADUAL 11 DE ABRIL. ENSINO FUNDAMENTAL E EJA.
A22: 77.Nessa Unidade Escolar foi realizada alguma formação, encontro ou reunião que instigasse a reflexão, por parte dos profissionais da educação, sobre seu pertencimento étnico-racial (ser branco, ser negro, ser terena, ser guarani, etc.)? | J22: 57 | K22: =C117 -> 31 | L22: =C116 -> 0 | M22: =0 -> 0 | N22: =C118 -> 31 | O22: =(N22-(M22+L22))/N22 -> 1 | S22: COLEGIO ESTADUAL ALMIRANTE BARROSO - ENSINO FUNDAMENTAL E MEDIO
I23: F7 | J23: 86 | K23: =C125 -> 26 | L23: =C124 -> 3 | M23: =C126 -> 2 | N23: =C127 -> 31 | O23: =(N23-(M23+L23))/N23 -> 0.83870968 | P23: =O23 -> 0.83870968 | Q23: Representativa (0,70 - 0,89) | S23: Colegio Estadual Arnaldo Busato - EFM
C24: Frequência | D24: Porcentual | S24: COLÉGIO ESTADUAL CIANORTE - EFMNP
A25: Válido | B25: não | C25: 9 | D25: 29 | I25: MUNICÍPIOS | S25: COLEGIO ESTADUAL DE VIDIGAL - EFM
B26: sim | C26: 22 | D26: 71 | S26: COLEGIO ESTADUAL DO CAMPO ALMIRANTE TAMANDARE-EFM
B27: Total | C27: 31 | D27: 100 | S27: Colégio Estadual Duque de Caxias
K28: Frequência | L28: Porcentual | S28: COLEGIO ESTADUAL DUQUE DE CAXIAS - EFM
I29: CIANORTE | K29: 11 | L29: 35.5 | S29: Colégio Estadual Felisberto Nunes Gonçalves-Ensino Fundamental e Médio
A30: 63.Nessa Unidade Escolar desenvolvem-se pesquisas com entidades e/ou ativistas de movimentos sociais que estimulem os(as) estudantes a conhecerem a história da População Negra do Brasil? | I30: CIDADE GAUCHA | K30: 1 | L30: 3.2 | S30: COLÉGIO ESTADUAL HELENA KOLODY - ENSINO MÉDIO E PROFISSIONAL
I31: GUAPOREMA | K31: 1 | L31: 3.2 | S31: Colégio Estadual Iglea Grollmann- EFM.
C32: Frequência | D32: Porcentual | I32: INDIANOPOLIS | K32: 1 | L32: 3.2 | S32: COLEGIO ESTADUAL ITACELINA BITTENCOURT - ENSINO FUNDAMENTAL E MEDIO
A33: Válido | B33: não | C33: 16 | D33: 51.6 | I33: JAPURA | K33: 2 | L33: 6.5 | S33: COLEGIO ESTADUAL JOSE GUIMARAES
B34: sim | C34: 15 | D34: 48.4 | I34: JUSSARA | K34: 1 | L34: 3.2 | S34: Colegio Estadual Marechal Costa e Silva - EFM
B35: Total | C35: 31 | D35: 100 | I35: RONDON | K35: 2 | L35: 6.5 | S35: COLEGIO ESTADUAL PEDRO FECCHIO-EFM
I36: SAO MANUEL DO PARANA | K36: 1 | L36: 3.2 | S36: COLEGIO ESTADUAL PRIMO MANFRINATO - EFM
I37: SAO TOME | K37: 2 | L37: 6.5 | S37: Colégio Estadual Professor Caio Mário Moreira
A38: 64.Nessa Unidade Escolar desenvolvem-se pesquisas com entidades e/ou ativistas de movimentos sociais que estimulem os(as) estudantes a conhecerem a história da População Indígena brasileira? | I38: TAPEJARA | K38: 2 | L38: 6.5 | S38: Colégio Estadual Rui Barbosa - EM
I39: TERRA BOA | K39: 4 | L39: 12.9 | S39: COLEGIO ESTADUAL SANTANA DE TAPEJARA - ENSINO MEDIO E NORMAL
C40: Frequência | D40: Porcentual | I40: TUNEIRAS DO OESTE | K40: 3 | L40: 9.7 | S40: Colégio Estadual Santos Dumont - E.M. e Normal
A41: Válido | B41: não | C41: 20 | D41: 64.5 | I41: Total | K41: 31 | L41: 100 | S41: COLÉGIO ESTADUAL SÃO LOURENÇO - EFM
B42: sim | C42: 11 | D42: 35.5 | S42: COLEGIO ESTADUAL SENADOR MARAES DE BARROS - EFM
B43: Total | C43: 31 | D43: 100 | S43: COLEGIO ESTADUALCASTRO ALVES - EM
...

Sheet Cornelio Procop
A1: NÚCLEO REGIONAL | B1: ESCOLAS ESTADUAIS RESPONDENTES | C1: ESCOLAS ESTADUAIS ATIVAS 2018 | D1: % DE RESPOSTAS | F1: NRE CORNELIO PROCOP
A2: CORNELIO PROCOP | B2: 43 | C2: 68 | D2: 63.235294
A4: QUESTÕES UTILIZADAS PARA FORMAÇÃO DOS FATORES DE ANÁLISE
A6: 75.A Unidade Escolar ofereceu, no último ano letivo, cursos de formação para professores(as) e demais funcionários(as) da escola sobre conteúdos referentes às relações raciais e a implementação da Lei n. 10.639/2003?
C8: Frequência | D8: Porcentual | I8: Fatores | J8: variável | K8: sim | L8: não | M8: Ausente | N8: N (respondente total) | O8: E (indicador por variável) | P8: E (total fator) | Q8: Escala Interpretativa | T8: Indicador de Verificação geral | U8: E | V8: Escala Interpretativa
A9: Válido | B9: não | C9: 18 | D9: 41.9 | I9: F1 | J9: 75 | K9: =C10 -> 25 | L9: =C9 -> 18 | M9: =0 -> 0 | N9: =C11 -> 43 | O9: =(N9-(M9+L9))/N9 -> 0.58139535 | P9: =(O9+O10+O11)/3 -> 0.62015504 | Q9: Moderada (0,40 - 0,69) | T9: ERER NRE CORNELIO PROCOPIO | U9: =(O9+O10+O11+O12+O13+O14+O15+O16+O17+O18+O19+O20+O21+O22+O23)/15 -> 0.70387597 | V9: Representativa (0,70 - 0,89)
B10: sim | C10: 25 | D10: 58.1 | J10: 76 | K10: =C18 -> 25 | L10: =C17 -> 18 | M10: =0 -> 0 | N10: =C19 -> 43 | O10: =(N10-(M10+L10))/N10 -> 0.58139535
B11: Total | C11: 43 | D11: 100 | J11: 77 | K11: =C26 -> 30 | L11: =C25 -> 13 | M11: =0 -> 0 | N11: =C27 -> 43 | O11: =(N11-(M11+L11))/N11 -> 0.69767442
I12: F2 | J12: 63 | K12: =C34 -> 24 | L12: =C33 -> 19 | M12: =0 -> 0 | N12: =C35 -> 43 | O12: =(N12-(M12+L12))/N12 -> 0.55813953 | P12: =(O12+O13+O14+O15)/4 -> 0.72674419 | Q12: Representativa (0,70 - 0,89)
J13: 64 | K13: =C42 -> 23 | L13: =C41 -> 20 | M13: =0 -> 0 | N13: =C43 -> 43 | O13: =(N13-(M13+L13))/N13 -> 0.53488372
A14: 76.Essa Unidade Escolar ofereceu, no último ano letivo, cursos de formação para professores(as) e demais funcionários(as) da escola sobre conteúdos referentes às relações étnico-raciais e a implementação da Lei n. 11.645/2008? | J14: 911 | K14: =C50 -> 42 | L14: =C49 -> 1 | M14: =C51 -> 0 | N14: =C52 -> 43 | O14: =(N14-(M14+L14))/N14 -> 0.97674419
J15: 93 | K15: =C59 -> 36 | L15: =C58 -> 7 | M15: =C60 -> 0 | N15: =C61 -> 43 | O15: =(N15-(M15+L15))/N15 -> 0.8372093
C16: Frequência | D16: Porcentual | I16: F3 | J16: 1072 | K16: =C84 -> 2 | L16: =C83 -> 40 | M16: =C85 -> 1 | N16: =C86 -> 43 | O16: =(N16-(M16+L16))/N16 -> 0.046511628 | P16: =O16 -> 0.046511628 | Q16: Irrisória (0 - 0,19
A17: Válido | B17: não | C17: 18 | D17: 41.9 | I17: F4 | J17: 102 | K17: =C68 -> 38 | L17: =C67 -> 5 | M17: =0 -> 0 | N17: =C69 -> 43 | O17: =(N17-(M17+L17))/N17 -> 0.88372093 | P17: =(O17+O18)/2 -> 0.86046512 | Q17: Representativa (0,70 - 0,89) | T17: Nome da Unidade Escolar
B18: sim | C18: 25 | D18: 58.1 | J18: 103 | K18: =C76 -> 36 | L18: =C75 -> 7 | M18: =0 -> 0 | N18: =C77 -> 43 | O18: =(N18-(M18+L18))/N18 -> 0.8372093
B19: Total | C19: 43 | D19: 100 | I19: F5 | J19: 59 | K19: =C93 -> 25 | L19: =C92 -> 18 | M19: =0 -> 0 | N19: =C94 -> 43 | O19: =(N19-(M19+L19))/N19 -> 0.58139535 | P19: =(O19+O20)/2 -> 0.69767442 | Q19: Moderada (0,40 - 0,69)
J20: 510 | K20: =C101 -> 35 | L20: =C100 -> 8 | M20: =0 -> 0 | N20: =C102 -> 43 | O20: =(N20-(M20+L20))/N20 -> 0.81395349 | T20: CENTRO ESTADUAL DE EDUCACAO BASICA PARA JOVENS E ADULTOS DE CORNELIO PROCOPIO - CEEBJA
I21: F6 | J21: 56 | K21: =C109 -> 37 | L21: =C108 -> 6 | M21: =0 -> 0 | N21: =C110 -> 43 | O21: =(N21-(M21+L21))/N21 -> 0.86046512 | P21: =(O21+O22)/2 -> 0.90697674 | Q21: Expressiva (0,90 - 1,00) | T21: COLEGIO ESTADUAL ADELAIDE GLASER ROSS
A22: 77.Nessa Unidade Escolar foi realizada alguma formação, encontro ou reunião que instigasse a reflexão, por parte dos profissionais da educação, sobre seu pertencimento étnico-racial (ser branco, ser negro, ser terena, ser guarani, etc.)? | J22: 57 | K22: =C117 -> 41 | L22: =C116 -> 2 | M22: =0 -> 0 | N22: =C118 -> 43 | O22: =(N22-(M22+L22))/N22 -> 0.95348837 | T22: COLEGIO ESTADUAL ANTONIO CARLOS GOMES - EFM
I23: F7 | J23: 86 | K23: =C125 -> 35 | L23: =C124 -> 1 | M23: =C126 -> 7 | N23: =C127 -> 43 | O23: =(N23-(M23+L23))/N23 -> 0.81395349 | P23: =O23 -> 0.81395349 | Q23: Representativa (0,70 - 0,89) | T23: COLEGIO ESTADUAL BARAO DO RIO BRANCO
C24: Frequência | D24: Porcentual | T24: Colégio Estadual Castro Alves Ensino Fundamental Médio e Profissional
A25: Válido | B25: não | C25: 13 | D25: 30.2 | T25: COLEGIO ESTADUAL CECÍLIA MEIRELES. SERTANEJA.PARANÁ.
B26: sim | C26: 30 | D26: 69.8 | I26: MUNICÍPIOS | T26: COLEGIO ESTADUAL CRISTO REI - ENSINO NORMAL
B27: Total | C27: 43 | D27: 100 | T27: COLEGIO ESTADUAL DO BAIRRO BELA VISTA E F
J28: Frequência | K28: Porcentual | T28: COLEGIO ESTADUAL DO CAMPO NOSSA SENHORA DA CANDELARIA - EFM
I29: ASSAI | J29: 2 | K29: 4.7 | T29: COLÉGIO ESTADUAL DO CAMPO PROFESSORA AGMAR MENDONÇA SCARDAZZI - ENSINO FUNDAMENTAL E MÉDIO
A30: 63.Nessa Unidade Escolar desenvolvem-se pesquisas com entidades e/ou ativistas de movimentos sociais que estimulem os(as) estudantes a conhecerem a história da População Negra do Brasil? | I30: BANDEIRANTES | J30: 7 | K30: 16.3 | T30: COLÉGIO ESTADUAL DO CAMPO SÃO JORGE, ENSINO FUNDAMENTAL E MÉDIO
I31: CONGONHINHAS | J31: 2 | K31: 4.7 | T31: COLEGIO ESTADUAL DULCE DE SOUZA CARVALHO ENSINO FUNDAMENTAL E MEDIO.
C32: Frequência | D32: Porcentual | I32: CORNELIO PROCOPIO | J32: 9 | K32: 20.9 | T32: COLEGIO ESTADUAL HUBERTO TEIXEIRA RIBEIRO - ENSINO FUNDAMENTAL E MEDIO
A33: Válido | B33: não | C33: 19 | D33: 44.2 | I33: ITAMBARACA | J33: 3 | K33: 7 | T33: COLEGIO ESTADUAL JOAO TURIN
B34: sim | C34: 24 | D34: 55.8 | I34: LEOPOLIS | J34: 2 | K34: 4.7 | T34: COLEGIO ESTADUAL JOAQUIM MARIA MACHADO DE ASSIS ENSINO FUNDAMENTAL E MEDIO
B35: Total | C35: 43 | D35: 100 | I35: NOVA FATIMA | J35: 2 | K35: 4.7 | T35: COLEGIO ESTADUAL JOSE DOMINGUES DA COSTA - EFM
I36: NOVA SANTA BARBARA | J36: 1 | K36: 2.3 | T36: COLEGIO ESTADUAL JOSE FERREIRA DE MELLO - EFMN
I37: SANTA AMELIA | J37: 2 | K37: 4.7 | T37: COLEGIO ESTADUAL JUVENAL MESQUITA EFM
